BEGIN:VCALENDAR
VERSION:2.0
PRODID:-//Ateneo Atlántico - ECPv6.15.20//NONSGML v1.0//EN
CALSCALE:GREGORIAN
METHOD:PUBLISH
X-ORIGINAL-URL:https://ateneoatlantico.gal
X-WR-CALDESC:Events for Ateneo Atlántico
REFRESH-INTERVAL;VALUE=DURATION:PT1H
X-Robots-Tag:noindex
X-PUBLISHED-TTL:PT1H
BEGIN:VTIMEZONE
TZID:Europe/Madrid
BEGIN:DAYLIGHT
TZOFFSETFROM:+0100
TZOFFSETTO:+0200
TZNAME:CEST
DTSTART:20250330T010000
END:DAYLIGHT
BEGIN:STANDARD
TZOFFSETFROM:+0200
TZOFFSETTO:+0100
TZNAME:CET
DTSTART:20251026T010000
END:STANDARD
BEGIN:DAYLIGHT
TZOFFSETFROM:+0100
TZOFFSETTO:+0200
TZNAME:CEST
DTSTART:20260329T010000
END:DAYLIGHT
BEGIN:STANDARD
TZOFFSETFROM:+0200
TZOFFSETTO:+0100
TZNAME:CET
DTSTART:20261025T010000
END:STANDARD
BEGIN:DAYLIGHT
TZOFFSETFROM:+0100
TZOFFSETTO:+0200
TZNAME:CEST
DTSTART:20270328T010000
END:DAYLIGHT
BEGIN:STANDARD
TZOFFSETFROM:+0200
TZOFFSETTO:+0100
TZNAME:CET
DTSTART:20271031T010000
END:STANDARD
END:VTIMEZONE
BEGIN:VEVENT
DTSTART;TZID=Europe/Madrid:20260325T090000
DTEND;TZID=Europe/Madrid:20260325T100000
DTSTAMP:20260419T150328
CREATED:20260312T233607Z
LAST-MODIFIED:20260320T221206Z
UID:4760-1774429200-1774432800@ateneoatlantico.gal
SUMMARY:Ciclo Memoria democrática 3
DESCRIPTION:A represión franquista nos campos de concentración. Ciclo Memoria democrática. Vítimas da Guerra Civil e da ditadura na provincia de Pontevedra. Mesa con: Cristina Caramés (IDEC) e Xosé Manuel Domínguez Freitas (Asociación Camposancos); presenta Rosa Pascual. Proxectarase o video sobre Camposancos. Cando? Mércores 25 de marzo a partir das 9.00 horas. Onde? Nos locais do IES Politécnico de Vigo (Rúa do Conde de Torrecedeira\, 88\, 36208 Vigo\, Pontevedra).
URL:https://ateneoatlantico.gal/eventos/ciclo-memoria-democratica-3
CATEGORIES:actividades,debate-pensamento,memoriaDemocratica
ATTACH;FMTTYPE=image/jpeg:https://ateneoatlantico.gal/wp-content/uploads/2026/03/2026-03-24-MemoriaDemocratica3-1600x900-3.jpg
END:VEVENT
END:VCALENDAR