BEGIN:VCALENDAR
VERSION:2.0
PRODID:-//Ateneo Atlántico - ECPv6.15.20//NONSGML v1.0//EN
CALSCALE:GREGORIAN
METHOD:PUBLISH
X-ORIGINAL-URL:https://ateneoatlantico.gal
X-WR-CALDESC:Events for Ateneo Atlántico
REFRESH-INTERVAL;VALUE=DURATION:PT1H
X-Robots-Tag:noindex
X-PUBLISHED-TTL:PT1H
BEGIN:VTIMEZONE
TZID:Europe/Madrid
BEGIN:DAYLIGHT
TZOFFSETFROM:+0100
TZOFFSETTO:+0200
TZNAME:CEST
DTSTART:20240331T010000
END:DAYLIGHT
BEGIN:STANDARD
TZOFFSETFROM:+0200
TZOFFSETTO:+0100
TZNAME:CET
DTSTART:20241027T010000
END:STANDARD
BEGIN:DAYLIGHT
TZOFFSETFROM:+0100
TZOFFSETTO:+0200
TZNAME:CEST
DTSTART:20250330T010000
END:DAYLIGHT
BEGIN:STANDARD
TZOFFSETFROM:+0200
TZOFFSETTO:+0100
TZNAME:CET
DTSTART:20251026T010000
END:STANDARD
BEGIN:DAYLIGHT
TZOFFSETFROM:+0100
TZOFFSETTO:+0200
TZNAME:CEST
DTSTART:20260329T010000
END:DAYLIGHT
BEGIN:STANDARD
TZOFFSETFROM:+0200
TZOFFSETTO:+0100
TZNAME:CET
DTSTART:20261025T010000
END:STANDARD
END:VTIMEZONE
BEGIN:VEVENT
DTSTART;TZID=Europe/Madrid:20251104T193000
DTEND;TZID=Europe/Madrid:20251104T210000
DTSTAMP:20260419T220646
CREATED:20251031T091246Z
LAST-MODIFIED:20251031T091252Z
UID:4504-1762284600-1762290000@ateneoatlantico.gal
SUMMARY:Mobilidade sostible. En bici por Vigo
DESCRIPTION:Mobilidade sostible. Como os coches empeoran as nosas vidas e cidades e como as bicis poden melloralas. Análise das vías ciclistas de Vigo. Quen? Colectivo Ciclábel; Joaão Tamayo Serdoura (Verdegaia); Daniel Rodríguez Pizarro (profesor de Tecnoloxía IES Coia 2). Cando? Martes 4 de novembro\, a partir das 19.30 horas. Onde? No salón Vitruvia-Ateneo (Reconquista 7)
URL:https://ateneoatlantico.gal/eventos/mobilidade-sostible-en-bici-por-vigo
LOCATION:Ateneo Atlántico\, Reconquista 7\, Vigo\, Galiza\, 36209\, Spain
CATEGORIES:actividades,debate-pensamento
ATTACH;FMTTYPE=image/jpeg:https://ateneoatlantico.gal/wp-content/uploads/2025/10/2025-11-04-BiciNaCidade.jpg
END:VEVENT
END:VCALENDAR