BEGIN:VCALENDAR
VERSION:2.0
PRODID:-//Ateneo Atlántico - ECPv6.15.20//NONSGML v1.0//EN
CALSCALE:GREGORIAN
METHOD:PUBLISH
X-ORIGINAL-URL:https://ateneoatlantico.gal
X-WR-CALDESC:Events for Ateneo Atlántico
REFRESH-INTERVAL;VALUE=DURATION:PT1H
X-Robots-Tag:noindex
X-PUBLISHED-TTL:PT1H
BEGIN:VTIMEZONE
TZID:Europe/Madrid
BEGIN:DAYLIGHT
TZOFFSETFROM:+0100
TZOFFSETTO:+0200
TZNAME:CEST
DTSTART:20240331T010000
END:DAYLIGHT
BEGIN:STANDARD
TZOFFSETFROM:+0200
TZOFFSETTO:+0100
TZNAME:CET
DTSTART:20241027T010000
END:STANDARD
BEGIN:DAYLIGHT
TZOFFSETFROM:+0100
TZOFFSETTO:+0200
TZNAME:CEST
DTSTART:20250330T010000
END:DAYLIGHT
BEGIN:STANDARD
TZOFFSETFROM:+0200
TZOFFSETTO:+0100
TZNAME:CET
DTSTART:20251026T010000
END:STANDARD
BEGIN:DAYLIGHT
TZOFFSETFROM:+0100
TZOFFSETTO:+0200
TZNAME:CEST
DTSTART:20260329T010000
END:DAYLIGHT
BEGIN:STANDARD
TZOFFSETFROM:+0200
TZOFFSETTO:+0100
TZNAME:CET
DTSTART:20261025T010000
END:STANDARD
END:VTIMEZONE
BEGIN:VEVENT
DTSTART;TZID=Europe/Madrid:20251015T193000
DTEND;TZID=Europe/Madrid:20251015T210000
DTSTAMP:20260419T235529
CREATED:20250925T172114Z
LAST-MODIFIED:20251010T083159Z
UID:4445-1760556600-1760562000@ateneoatlantico.gal
SUMMARY:Ler a cidade para comprendela
DESCRIPTION:Ler a cidade para comprendela. Quen? Salvador Fraga\, arquitecto\, presentado por Teresa Conde-Pumpido. Cando? o mércores 15 de outubro a partir das 19.30 horas. Onde? No novo salón de actos do Ateneo Atlántico\, nas instalacións do café Vitruvia (rúa Reconquista 7). \n\n\n\n\n\n\n\nNesta primeira actividade do novo curso queremos pararnos a pensar na nosa cidade; Vigo foise facendo polos seus cidadáns ao longo do tempo\, cada un cos seus propios afáns\, sorteando as dificultades topográficas\, históricas e sociais que ían deixando a súa pegada\, buscando cada quen satisfacer as súas necesidades ou intereses propios\, demasiadas veces\, quizais\, sen buscar unha postura común ou unha solución máis axeitada \,lonxe da rutina.Para saber en que punto estamos e cales son os principais problemas que Vigo debe afrontar en tempos con novas necesidades sociais\, que posibles solucións poden xurdir do novo PXOUM e cales haberá que afrontar por outros medios\, contamos coa axuda de Salvador Fraga que nos guiará nunha lectura de cidadanía consciente que nos permita comprendela e buscar a súa melloria. \n\n\n\nSalvador Fraga Rivas é un dos arquitectos vigueses máis recoñecidos: licenciado na ETSAM na especialidade de Urbanismo\, foi concelleiro do Concello de Vigo\, profesor na ETS de Arquitectura da Coruña e presidente da Delegación do COAG en Vigo.
URL:https://ateneoatlantico.gal/eventos/ler-a-cidade-para-comprendela
LOCATION:Ateneo Atlántico\, Reconquista 7\, Vigo\, Galiza\, 36209\, Spain
CATEGORIES:actividades,debate-pensamento
ATTACH;FMTTYPE=image/jpeg:https://ateneoatlantico.gal/wp-content/uploads/2025/09/2025-10-15-Salvador-Fraga.jpg
END:VEVENT
END:VCALENDAR